BEGIN:VCALENDAR
VERSION:2.0
PRODID:-//AUGEN AUF PFOTEN - ECPv5.0.0//NONSGML v1.0//EN
CALSCALE:GREGORIAN
METHOD:PUBLISH
X-WR-CALNAME:AUGEN AUF PFOTEN
X-ORIGINAL-URL:https://augenaufpfoten.moerth.at
X-WR-CALDESC:Veranstaltungen im AUGEN AUF PFOTEN
BEGIN:VTIMEZONE
TZID:UTC
BEGIN:STANDARD
TZOFFSETFROM:+0000
TZOFFSETTO:+0000
TZNAME:UTC
DTSTART:20200101T000000
END:STANDARD
END:VTIMEZONE
BEGIN:VEVENT
DTSTART;VALUE=DATE:20200515
DTEND;VALUE=DATE:20200516
DTSTAMP:20260419T155527
CREATED:20190109T021723Z
LAST-MODIFIED:20200305T113234Z
UID:1034-1589500800-1589587199@augenaufpfoten.moerth.at
SUMMARY:Steiermark Walkathon 2020
DESCRIPTION:Auf 2 Beinen und 4 Pfoten „vom Gletscher zum Wein“\n15. Mai – 06. Juni 2020 \n  \nUm der wertvollen Arbeit von Blindenführhunden und anderen Assistenzhunden eine Plattform zu geben\, wird der prominente blinde Musiker Wolfgang Niegelhell mit seinem Blindenführhund „Amadeus“ auf 2 Beinen und 4 Pfoten die Steiermark durchqueren\, um die herausragende Leistungsfähigkeit von Assistenz- und Blindenführhunden zu demonstrieren. \n
URL:https://augenaufpfoten.moerth.at/event/south-african-pre-primary-school-build/
LOCATION:Dachstein\, Dachstein\, Steiermark \, Österreich
CATEGORIES:Charity,Walkathon
ATTACH;FMTTYPE=image/jpeg:https://augenaufpfoten.moerth.at/wp-content/uploads/2020/02/News_Post_3_1.jpg
END:VEVENT
END:VCALENDAR